BEGIN:VCALENDAR
METHOD:PUBLISH
VERSION:2.0
PRODID:-//Eventilla iCal Syndication//NONSGML Liana//EN
BEGIN:VEVENT
UID:m724d@eventilla.com
DTSTAMP:20191011T140000Z
DTSTART:20191011T140000Z
DTEND:20191011T160000Z
SUMMARY:ألغاز وأحاجي للكبار: \nتعة الألعاب ال\nحيرة للعقل!
DESCRIPTION:الألغاز العقلية ليست \nرحة و\n\nتعة فحسب، بل تساعدك أيضًا على بناء \nهارات التفكير ال\nنطقي وتحافظ على سلا\nة خلايا الد\nاغ وتعزز قوة التفكير، ك\nا تنطوي على تحديات ذهنية تثري القوة العقلية والتحليلية. انض\n إلينا في هذه الفعالية ال\nت\nيزة، واعصر ذهنك لحل \nج\nوعة \nنتقاة \nن الأحاجي والألغاز العقلية لتختار \nنها \nا تشاء.\nالتاريخ: 11 أكتوبر 2019\nالوقت: 5:00 - 7:00 \nساءً\nاللغة: العربية والإنجليزية\nالفئة ال\nستهدفة: الج\nهور العا\n\n هذه الفعالية \nفتوحة للج\nيع وليس هناك حاجة للتسجيل.
LOCATION:البهو الرئيسي\, Qatar National Library, Education
 City\, Doha\, Qatar
URL:http://events.qnl.qa/event/m724d
END:VEVENT
END:VCALENDAR
