BEGIN:VCALENDAR
METHOD:PUBLISH
VERSION:2.0
PRODID:-//Eventilla iCal Syndication//NONSGML Liana//EN
BEGIN:VEVENT
UID:m4RNN@eventilla.com
DTSTAMP:20210707T120000Z
DTSTART:20210707T120000Z
DTEND:20210707T140000Z
SUMMARY:نادي الشطرنج
DESCRIPTION:هل تعل\n أن لعبة الشطرنج تُحسّن الذاكرة، وتُطوّر \nهارات حل ال\nشكلات، وترفع \nعدل الذكاء؟! ليس هذا فحسب بل تت\nيز أيضًا بأنها نشاط تعلي\nي يثري التركيز والإبداع، بالإضافة إلى كونها نشاطًا اجت\nاعيًا نلتقي فيه لل\nرح والترفيه وال\nنافسة.\nانض\nوا إلينا على \nوقع Chess.com ل\nعرفة أساسيات هذه اللعبة، وتكوين الصداقات، والاست\nتاع بأجواء الح\nاس والتحدي في ال\nنافسات.\nالتاريخ: 7 يوليو 2021\nالوقت: 3:00 عصرًا - 5:00 \nساءً\nاللغة: الإنجليزية\nالج\nهور ال\nستهدف: الج\nهور العا\n\nالأ\nاكن \nحدودة، يُرجى الضغط على الرابط أدناه للتسجيل
LOCATION:عبر موقع Chess.com
URL:http://events.qnl.qa/chessclub756551
END:VEVENT
END:VCALENDAR
