BEGIN:VCALENDAR
METHOD:PUBLISH
VERSION:2.0
PRODID:-//Eventilla iCal Syndication//NONSGML Liana//EN
BEGIN:VEVENT
UID:m41Po@eventilla.com
DTSTAMP:20200907T130000Z
DTSTART:20200907T130000Z
DTEND:20200907T140000Z
SUMMARY:Starting Your Sustainability Journey in Qatar
DESCRIPTION:Presented by the Doha Environmental Actions Project (DEAP)\, this session will allow participants to learn about local marine life and how it is affected by plastic pollution in Qatar. Participants will learn simple things they can do to help fix the problem. The event will be conducted online via Microsoft Teams.\nDate: 7 September 2020\nTime: 4:00 – 5:00 PM\nLanguage: English\nTarget Audience: Ages 12 – 18\nSeats are limited\, please click the button below to register.
LOCATION:Online Via Microsoft Teams Platform
URL:http://events.qnl.qa/aguidetostart
END:VEVENT
END:VCALENDAR
