BEGIN:VCALENDAR
METHOD:PUBLISH
VERSION:2.0
PRODID:-//Eventilla iCal Syndication//NONSGML Liana//EN
BEGIN:VEVENT
UID:m0Jlp@eventilla.com
DTSTAMP:20190314T070000Z
DTSTART:20190314T070000Z
DTEND:20190314T080000Z
SUMMARY:The Library's Style Guide Training (English)
DESCRIPTION:Thank you for your interest in attending the English Style Guide training session. \nDate: 14 March 2019\nTime: 10:00 - 11:00 AM\nSeats are limited\, please click the button below to register.
LOCATION:Computer Lab
URL:http://events.qnl.qa/event/m0Jlp
END:VEVENT
END:VCALENDAR
