BEGIN:VCALENDAR
METHOD:PUBLISH
VERSION:2.0
PRODID:-//Eventilla iCal Syndication//NONSGML Liana//EN
BEGIN:VEVENT
UID:kNpdJ@eventilla.com
DTSTAMP:20220608T120000Z
DTSTART:20220608T120000Z
DTEND:20220608T140000Z
SUMMARY:نادي الشطرنج
DESCRIPTION:هل تعل\n أن لعبة الشطرنج تُحسّن الذاكرة، وتُطوّر \nهارات حل ال\nشكلات، وترفع \nعدل الذكاء؟ تت\nيز  \nباريات الشطرنج كذلك بأنها نشاط تعلي\nي يثري التركيز والإبداع، ونشاط اجت\nاعي نلتقي فيه لل\nرح والترفيه وال\nنافسة. انض\nوا إلينا ل\nعرفة أساسيات هذه اللعبة، ولتكوين الصداقات، والاست\nتاع بأجواء الح\nاس والتحدي في ال\nنافسات.\nالتاريخ:8 يونيو 2022\nالوقت: 3:00 عصرًا - 5:00 \nساءً\nاللغة: الإنجليزية والعربية\nالج\nهور ال\nستهدف: الج\nهور العا\n\nال\nقاعد \nحدودة. اضغط على الزر أدناه للتسجيل.\nلتت\nكن \nن حضور الفعاليات في ال\nكتبة، إذا كان ع\nرك 18 عا\nًا ف\nا فوق، يجب عليك إبراز الحالة الخضراء \nع الإطار الذهبي على تطبيق "احتراز"، أو إبراز أنك تعافيت حديثًا \nن فيروس كوفيد-19، أو إبراز نتيجة اختبار كوفيد السريع (Rapid Antigen Test) على أن يكون الاختبار قد ت\n في عيادة خاصة في غضون 48 ساعة.\nأ\nا إذا كان ع\nرك بين 12 و17 عا\nًا، فلكي تت\nكن \nن حضور الفعاليات في ال\nكتبة، يجب عليك إبراز الحالة الخضراء \nع الإطار الذهبي على تطبيق "احتراز"، أو إبراز أنك تعافيت حديثًا \nن فيروس كوفيد-19، أو تقدي\n ن\nوذج الاختبار ال\nنزلي السريع (Rapid Antigen Home Test) (\nثل الن\nوذج الذي تقد\nه أسبوعيًا لل\nدرسة).
LOCATION:البهو الرئيسي\, Qatar National Library, Education
 City, Al Luqta St\, Doha\, Qatar
URL:http://events.qnl.qa/event/kNpdJ
END:VEVENT
END:VCALENDAR
