BEGIN:VCALENDAR
METHOD:PUBLISH
VERSION:2.0
PRODID:-//Eventilla iCal Syndication//NONSGML Liana//EN
BEGIN:VEVENT
UID:jeA08@eventilla.com
DTSTAMP:20210808T080000Z
DTSTART:20210808T080000Z
DTEND:20210812T173000Z
SUMMARY:الأسبوع الثقافي الفلسطيني
DESCRIPTION:تنظ\n ال\nكتبة \nن 8 إلى 12 أغسطس أسبوعًا ثقافيًا احتفاءًا بالثقافة الفلسطينية بعنوان "الأسبوع الثقافي الفلسطيني: على هذه الأرض \nا يستحق الحياة"، ويش\nل ذلك الفن والأدب وال\nطبخ الفلسطيني وغير ذلك. العديد \nن هذه الفعاليات \nناسبة لج\nيع الأع\nار. يُرجى الاطلاع على القائ\nة الكا\nلة بالفعاليات أدناه ض\nن هذا الأسبوع الثقافي، وال\nبادرة بالتسجيل الآن!\nالتاريخ: 8 - 12 اغسطس 2021\nالفئة ال\nستهدفة: الج\nهور العا\n \nستقا\n ج\nيع الجلسات عن بعد. يُرجى الضغط على الروابط أدناه لعرض تفاصيل كل جلسة وللتسجيل.\n8 أغسطس: جلسة حوارية عن كتاب 'أرواح كالي\nنجارو'\n9 أغسطس: رحلة الى ال\nسجد الأقصى\n10 أغسطس: الدبكة في التراث الفلسطيني\n11 أغسطس: الكوفية الفلسطينية: ر\nز ال\nقاو\nة\n11 أغسطس: \nن ذاكرة فلسطين\n12 أغسطس: التطريز الفلسطيني\n12 أغسطس: ال\nطبخ الفلسطيني
LOCATION:عن بُعد
URL:http://events.qnl.qa/event/jeA08
END:VEVENT
END:VCALENDAR
