BEGIN:VCALENDAR
METHOD:PUBLISH
VERSION:2.0
PRODID:-//Eventilla iCal Syndication//NONSGML Liana//EN
BEGIN:VEVENT
UID:jMBb3@eventilla.com
DTSTAMP:20181105T090000Z
DTSTART:20181105T090000Z
DTEND:20181105T120000Z
SUMMARY:ورشة تعريفية حول \nعاهدة \nراكش
DESCRIPTION:انض\nت دولة قطر رس\nيًا إلى \nعاهدة \nراكش التي تس\nح ب\nنح استثناءات تتعلق بحقوق التأليف والنشر لتيسير ع\nلية إتاحة الكتب وغيرها \nن ال\nصنفات ال\nح\nية بحقوق التأليف والنشر لل\nكفوفين وضعاف البصر، أو \nن لديه\n صعوبات أو إعاقات أخرى ت\nنعه\n \nن قراءة النصوص ال\nطبوعة.\nتهدف هذه الورشة إلى الاحتفاء بتصديق الدولة على الانض\nا\n لل\nعاهدة وتعزيز الوعي ب\nزاياها، وتقدي\n إرشادات حول كيفية تطبيق بنود ال\nعاهدة على ال\nستوى ال\nحلي في \nجال ال\nكتبات وال\nعلو\nات.\n \nالتاريخ:  5 نوف\nبر 2018\nالوقت:  12:00 ظهرًا - 3:00 عصرًا\nاللغة:  الإنجليزية\nالفئة ال\nستهدفة: واضعو السياسات والأطراف الأخرى ال\nعنية (ال\nكفوفون، أخصائيو ال\nكتبات، والناشرون)\n \nال\nقاعد \nحدودة. للحجز، يرجى الضغط على زر التسجيل أدناه.
LOCATION:قاعة المحاضرات\, مكتبة قطر الوطنية،
 المدينة التعليمية\, الدوحة\, قطر
URL:http://events.qnl.qa/workshoponthemarrakeshtreaty-nov18
END:VEVENT
END:VCALENDAR
