BEGIN:VCALENDAR
METHOD:PUBLISH
VERSION:2.0
PRODID:-//Eventilla iCal Syndication//NONSGML Liana//EN
BEGIN:VEVENT
UID:jJ5yK@eventilla.com
DTSTAMP:20201108T080000Z
DTSTART:20201108T080000Z
DTEND:20201108T084500Z
SUMMARY:Online Storytime for Toddlers
DESCRIPTION:Spend a fun-filled morning with reading\, music movement and activities with your little ones. This event will be conducted online via Microsoft Teams.\nDate: 8 November 2020 \nTime: 11:00 – 11:45 AM\nLanguage: English \nTarget Audience: Children ages 3 – 4\nSeats are limited. To register\, please click the button below.
LOCATION:Online via Microsoft Teams
URL:http://events.qnl.qa/event/jJ5yK
END:VEVENT
END:VCALENDAR
