BEGIN:VCALENDAR
METHOD:PUBLISH
VERSION:2.0
PRODID:-//Eventilla iCal Syndication//NONSGML Liana//EN
BEGIN:VEVENT
UID:j1Bp8@eventilla.com
DTSTAMP:20181030T140000Z
DTSTART:20181030T140000Z
DTEND:20181030T160000Z
SUMMARY:English Fiction Book Club
DESCRIPTION:Join us for the first meeting the English Fiction Book Club. We will discuss Kazuo Ishiguro’s highly acclaimed novel Never Let Me Go. Copies of the book will be available at the User Services Desk.\nDate: 30 October 2018\nTime: 5:00 PM - 7:00 PM\nLanguage: English\nTarget Audience: Adults\nSeats are limited. To register\, please click the button below.
LOCATION:HL Presentation Room\, Qatar National Library, Education City\,
 Doha\, Qatar
URL:http://events.qnl.qa/englishfictionbookclub
END:VEVENT
END:VCALENDAR
