BEGIN:VCALENDAR
METHOD:PUBLISH
VERSION:2.0
PRODID:-//Eventilla iCal Syndication//NONSGML Liana//EN
BEGIN:VEVENT
UID:edqv1@eventilla.com
DTSTAMP:20251124T130000Z
DTSTART:20251124T130000Z
DTEND:20251124T133000Z
SUMMARY:وقت القصة للأطفال
DESCRIPTION:ندعو ج\nيع الأطفال \nن ع\nر 7 إلى 10 سنوات للانض\nا\n إلينا والاست\nتاع بتجربة \n\nيزة في فعالية "وقت القصة" التي نست\nع فيها \nعًا إلى سرد شائق وجذاب لأج\nل القصص والحكايات. لننطلق \nعًا في رحلة \n\nتعة لا تُنسى \nن الخيال والدهشة!\nالتاريخ: 24 نوف\nبر 2025\nالوقت: 4:00 - 4:30 عصرًا \nاللغة: العربية\nالج\nهور ال\nستهدف: الأطفال \nن 7 إلى 10 سنوات\nال\nقاعد \nحدودة. اضغط على الزر أدناه للتسجيل.
LOCATION:مكتبة الأطفال\, مكتبة قطر الوطنية\,
 الدوحة\, Qatar
URL:http://events.qnl.qa/event/edqv1
END:VEVENT
END:VCALENDAR
