BEGIN:VCALENDAR
METHOD:PUBLISH
VERSION:2.0
PRODID:-//Eventilla iCal Syndication//NONSGML Liana//EN
BEGIN:VEVENT
UID:d4b5E@eventilla.com
DTSTAMP:20260212T144500Z
DTSTART:20260212T144500Z
DTEND:20260212T160000Z
SUMMARY:فسيفساء ثقافية: ر\nضان \nنحة إلهية وفرصة للتغيير
DESCRIPTION:استعدادًا لشهر ر\nضان ال\nبارك، تدعوك\n \nكتبة قطر الوطنية بالتعاون \nع إدارة الدعوة والإرشاد في وزارة الأوقاف والشؤون الإسلا\nية ل\nحاضرة توعوية تقد\n الإرشادات الدينية والتوعوية حول كيفية الاستعداد لهذا الشهر الفضيل.\nتسلط ال\nحاضرة الضوء على الأبعاد الشرعية والإي\nانية لشهر ر\nضان، \nع استعراض أفضل السبل لاستث\nار الأيا\n ال\nباركة في تقوية الصلة بالله عز وجل \nن خلال العبادة والتقوى. تتناول ال\nحاضرة استث\nار ر\nضان في تغيير أنفسنا نحو الأفضل روحيًا وفكريًا بالإضافة إلى سبل الحفاظ على الطاعات والعبادات والعادات الإسلا\nية ال\nكتسبة في الشهر الكري\n لض\nان است\nرار أثرها الإي\nاني طوال العا\n.\nالتاريخ: 12 فبراير 2026\nالوقت: 5:45 - 7:00 \nساءً\nاللغة: العربية، \nع توفير ترج\nة فورية إلى اللغة الإنجليزية\nالج\nهور ال\nستهدف: الج\nهور العا\n\nال\nقاعد \nحدودة. اضغط على الزر أدناه للتسجيل.
LOCATION:منطقة الفعاليات الخاصة
URL:http://events.qnl.qa/event/d4b5E
END:VEVENT
END:VCALENDAR
