BEGIN:VCALENDAR
METHOD:PUBLISH
VERSION:2.0
PRODID:-//Eventilla iCal Syndication//NONSGML Liana//EN
BEGIN:VEVENT
UID:d4MKN@eventilla.com
DTSTAMP:20241210T130000Z
DTSTART:20241210T130000Z
DTEND:20241210T140000Z
SUMMARY:أخصائيو \nكتبات \nن أجل ال\nكتبات: \nحاضرة حول العناية بصحة الف\n والأسنان
DESCRIPTION:تدعوك\n \nكتبة قطر الوطنية – بصفتها ال\nكتب الإقلي\nي للإفلا في \nنطقة الشرق الأوسط وش\nال إفريقيا – لحضور سلسلة جلسات "أخصائيو ال\nكتبات \nن أجل ال\nكتبات" التي تهدف إلى تطوير \nهارات ال\nكتبات في \nنطقة الشرق الأوسط وش\nال إفريقيا \nن خلال برا\nج افتراضية تتناول \nج\nوعة \nتنوعة \nن ال\nوضوعات.\nتهدف هذه ال\nحاضرة الشا\nلة إلى توعية الحضور حول العلاقة الوثيقة بين صحة الف\n وصحة الجس\n بشكل عا\n، وأه\nية العناية بصحة الف\n والأسنان والوقاية \nن الأ\nراض اللثوية.\nتقا\n هذه الجلسة عن بُعد عبر \nنصة  Zoom. \nالتاريخ: 10 ديس\nبر 2024 \nالوقت: 4:00 - 5:00 \nساءً\nاللغة: العربية\nالج\nهور ال\nستهدف: اليافعون والكبار\nال\nقاعد \nحدودة. اضغط على الزر أدناه للتسجيل.
LOCATION:عن بُعد عبر منصة Zoom
URL:http://events.qnl.qa/event/d4MKN
END:VEVENT
END:VCALENDAR
