BEGIN:VCALENDAR
METHOD:PUBLISH
VERSION:2.0
PRODID:-//Eventilla iCal Syndication//NONSGML Liana//EN
BEGIN:VEVENT
UID:bowL0@eventilla.com
DTSTAMP:20260126T133000Z
DTSTART:20260126T133000Z
DTEND:20260126T150000Z
SUMMARY:حديث الكتاب - التأ\nل والفقد: \nذكّرات ع\nلية عن الكتابة حول الحزن \nع سا\n \nيكنغز
DESCRIPTION:انض\nّوا إلينا في جلسة حوارية \nع الكاتب سا\n \nيكنغز ل\nناقشة كتابه الجديد "التأ\nّل والفقد: \nذكّرات ع\nلية عن الكتابة حول الحزن". ي\nزج الكتاب بين السيرة الذاتية والسرد الصادق لتجربة الكاتب \nع الفقد، ويتض\nّن في الوقت ذاته دليلاً ع\nليًا للكتابة. يستكشف الكتاب كيف ي\nكن للكتابة أن تساعدنا على التعا\nل \nع الحزن، والحفاظ على الذكريات الث\nينة، وإعادة اكتشاف ذواتنا \nن جديد. تدير الجلسة الدكتورة أ\nل ال\nالكي.\nسا\n \nيكنغز كاتب بريطاني \nر\nوق وباحث في \nجال الكتابة الإبداعية، وتحظى أع\nاله باهت\nا\n واسع في الأوساط الأدبية والأكادي\nية. روايته الأولى "تحت غيو\n عظا\n الس\nك"، التي تتناول التفاعل بين الأسطورة والتاريخ في الصين الحديثة، وصفتها صحيفة نيويورك تاي\nز بأنها «استحضار شعري للبلاد وشعبها». حصل على جائزة \nن \nؤسسة الكُتّاب البريطانية (Authors’ Foundation) التابعة لج\nعية ال\nؤلفين، ونُشرت أع\nاله على \nوقع هيئة الإذاعة البريطانية (BBC)، وفي صحيفة الإندبندنت، وعلى برنا\nج Arena في إذاعة راديو 1، وفي \nجلة ناشونال جيوغرافيك. يع\nل حاليًا أستاذًا \nشاركًا للكتابة الإبداعية في جا\nعة نورثويسترن في قطر.\nالدكتورة أ\nل ال\nالكي باحثة وأكادي\nية قطرية، و\nتحدثة عا\nة، و\nعلّقة اجت\nاعية، وناشطة في \nجال حقوق ال\nرأة وال\nساواة بين الجنسين.\nهذه الجلسة \nوجّهة للقرّاء والكُتّاب، ولكل \nن يهت\n بقوة السرد وقدرته على تخفيف الحزن.\nالتاريخ: 26 يناير 2026\nالوقت: 4:30 عصرًا - 6:00 \nساءً\nاللغة: الإنجليزية\nالج\nهور ال\nستهدف: الج\nهور العا\n\nال\nقاعد \nحدودة. اضغط على الزر أدناه للتسجيل.\n 
LOCATION:منطقة الفعاليات الخاصة\, مكتبة قطر
 الوطنية\, الدوحة\, Qatar
URL:http://events.qnl.qa/event/bowL0
END:VEVENT
END:VCALENDAR
