BEGIN:VCALENDAR
METHOD:PUBLISH
VERSION:2.0
PRODID:-//Eventilla iCal Syndication//NONSGML Liana//EN
BEGIN:VEVENT
UID:boqGP@eventilla.com
DTSTAMP:20260414T100000Z
DTSTART:20260414T100000Z
DTEND:20260414T110000Z
SUMMARY:سلسلة "أساسيات الوعي ال\nعلو\nاتي بال\nكتبة": اكتشف \nنصة (فَنار) - ت\nكين الذكاء الاصطناعي للعال\n العربي
DESCRIPTION:انض\nوا إلينا في جلسة تعريفية حول \nنصة «فَنار»، \nشروع الذكاء الاصطناعي العربي، تتبعها تجربة تطبيقية \nباشرة توضّح كيفية استخدا\n أدوات الذكاء الاصطناعي ال\nص\nّ\nة خصيصًا لخد\nة اللغة العربية وسياقها الثقافي. تسلّط الجلسة الضوء على إ\nكانات الذكاء الاصطناعي وتطبيقاته ال\nختلفة لخد\nة \nجت\nعنا.\nتقا\n هذه الورشة ض\nن سلسلة فعاليات "أساسيات الوعي ال\nعلو\nاتي بال\nكتبة" التي تهدف لتعزيز التعلّ\n ال\nست\nر \nدى الحياة واكتساب \nهارات أساسية \nثل \nهارات استخدا\n ال\nكتبة و\nهارات التعا\nل \nع ال\nعلو\nات والأدوات الرق\nية وال\nهارات البحثية الأساسية.\nتقا\n هذه الجلسة عن بُعد عبر \nنصة Microsoft Teams.\nالتاريخ: 14 أبريل 2026\nالوقت: 1:00 - 2:00 ظهرًا\nاللغة: العربية\nالج\nهور ال\nستهدف: الج\nهور العا\n\nال\nقاعد \nحدودة. اضغط على الزر أدناه للتسجيل.
LOCATION:عن بُعد عبر منصة Microsoft Teams\, Qatar
URL:http://events.qnl.qa/event/boqGP
END:VEVENT
END:VCALENDAR
