BEGIN:VCALENDAR
METHOD:PUBLISH
VERSION:2.0
PRODID:-//Eventilla iCal Syndication//NONSGML Liana//EN
BEGIN:VEVENT
UID:aqK36@eventilla.com
DTSTAMP:20220510T060000Z
DTSTART:20220510T060000Z
DTEND:20220510T080000Z
SUMMARY:English Creative Writing Circle for Adults
DESCRIPTION:The Creative Writing Circle for Adults is an opportunity for creative writers to come together and share their work. The group provides inspiration\, feedback and encouragement in a supportive environment. So whatever stage you’re at\, come along and get writing!\nThe event will be conducted online via Microsoft Teams. \nDate: 10 May 2022\nTime: 9:00 - 11:00 AM \nLanguage: English \nTarget Audience: Adults \nSeats are limited\, please click the button below to register.
LOCATION:Online via Microsoft Teams
URL:http://events.qnl.qa/event/aqK36
END:VEVENT
END:VCALENDAR
