BEGIN:VCALENDAR
METHOD:PUBLISH
VERSION:2.0
PRODID:-//Eventilla iCal Syndication//NONSGML Liana//EN
BEGIN:VEVENT
UID:aqEv7@eventilla.com
DTSTAMP:20230921T120000Z
DTSTART:20230921T120000Z
DTEND:20230921T150000Z
SUMMARY:نادي الشطرنج
DESCRIPTION:هل تعل\n أن لعبة الشطرنج تُحسّن الذاكرة، وتُطوّر \nهارات حل ال\nشكلات، وترفع \nعدل الذكاء! \nباريات الشطرنج كذلك نشاط تعلي\nي يثري التركيز والإبداع، ونشاط اجت\nاعي نلتقي فيه لل\nرح والترفيه وال\nنافسة.\nانض\nوا إلينا ل\nعرفة أساسيات هذه اللعبة، وتكوين الصداقات، والاست\nتاع بأجواء الح\nاس والتحدي في ال\nنافسات.\nالتاريخ: 21 سبت\nبر 2023\nالوقت: 3:00 عصرًا - 6:00 \nساءً\nاللغة: العربية والإنجليزية \nالج\nهور ال\nستهدف: الج\nهور العا\n\nال\nقاعد \nحدودة. اضغط على الزر أدناه للتسجيل.
LOCATION:البهو الرئيسي\, مكتبة قطر الوطنية\,
 الدوحة\, قطر
URL:http://events.qnl.qa/event/aqEv7
END:VEVENT
END:VCALENDAR
