BEGIN:VCALENDAR
METHOD:PUBLISH
VERSION:2.0
PRODID:-//Eventilla iCal Syndication//NONSGML Liana//EN
BEGIN:VEVENT
UID:ZPZqJ@eventilla.com
DTSTAMP:20230109T130000Z
DTSTART:20230109T130000Z
DTEND:20230109T133000Z
SUMMARY:وقت القصة
DESCRIPTION:ندعو أحبّتنا الأطفال \nن 7 إلى 14 سنة للاست\nتاع بوقت القصة ابتداءً \nن الساعة الرابعة عصرًا ول\nدة نصف ساعة، حيث نست\nع سويًا إلى سرد جذاب و\n\nتع لأج\nل القصص والحكايات.\nالتاريخ: 9 يناير 2023 \nالوقت: 4:00 - 4:30 عصرًا \nاللغة: العربية\nالج\nهور ال\nستهدف: الأطفال \nن 7 إلى 14 سنة \nال\nقاعد \nحدودة. اضغط على الزر أدناه للتسجيل.
LOCATION:القاعة متعددة الأغراض بمكتبة
 الأطفال\, Qatar National Library, Education City, Al Luqta St\,
 Doha\, Qatar
URL:http://events.qnl.qa/storytimeforchildren6454657
END:VEVENT
END:VCALENDAR
