BEGIN:VCALENDAR
METHOD:PUBLISH
VERSION:2.0
PRODID:-//Eventilla iCal Syndication//NONSGML Liana//EN
BEGIN:VEVENT
UID:Y7w7O@eventilla.com
DTSTAMP:20230212T133000Z
DTSTART:20230212T133000Z
DTEND:20230212T160000Z
SUMMARY:FIFA World Cup Qatar 2022™ and Qatari Culture: Football\, Art\, and Sport Documentation
DESCRIPTION:As part of Qatar Sport Day\, this panel discussion aims to introduce the golden age of Qatari football through the football pioneers and their achievements\, as well as shed light on the Qatari artists and authors who documented the national identity through their works that made the FIFA World Cup Qatar 2022™ one of the best of all time.\nSpeakers:\nMubarak Mustafa:  Former Qatar national team player\, and a Qatar 2022 Legacy AmbassadorIbrahim Khalfan: Former Qatar national team player\, and a Qatar 2022 Legacy AmbassadorMajed Al Shuqairi: Football collectorAhmed Al Kuwari: Football collectorHis Excellency Sheikh Dr. Thani bin Ali Al Thani: Vice President of the Qatar Bar Association\, Chairman of the Editorial Board of the FIFA World Cup Qatar 2022 Atlas Book. Ibrahim Al Jaidah: CEO of the Arab Bureau for Engineering Affairs\, and designer of Al Thumama StadiumDr. Buthaina Al-Ansari\, Strategic Development and Human Resources Advisor\, and Author of Countdown-Qatar FIFA World Cup 2022\nModerator:\nAysha Hassan Al-Ansari: Head of Heritage Collections\, QNL Heritage Collection\nDate: 12 February 2023\nTime: 4:30 - 7:00 PM\nLanguage: Arabic and English \nTarget Audience: Public \nSeats are limited\, please click the button below to register.
LOCATION:Auditorium\, Qatar National Library, Education City, Al Luqta
 St\, Doha\, Qatar
URL:http://events.qnl.qa/event/Y7w7O
END:VEVENT
END:VCALENDAR
