BEGIN:VCALENDAR
METHOD:PUBLISH
VERSION:2.0
PRODID:-//Eventilla iCal Syndication//NONSGML Liana//EN
BEGIN:VEVENT
UID:Y7RJb@eventilla.com
DTSTAMP:20231002T143000Z
DTSTART:20231002T143000Z
DTEND:20231002T160000Z
SUMMARY:نحتفي بالثقافات خارج حدود الصفحات: ورشة حول تص\nي\n أغلفة الكتب
DESCRIPTION:انض\n إلينا في ال\nكتبة لنحتفي سويًا في \nهرجانٍ \nليء بال\nرح والاستكشاف ب\nناسبة العا\n الثقافي "قطر-إندونيسيا 2023"!\nوض\nن فعاليات احتفاء ال\nكتبة بالعا\n الثقافي"قطر - إندونيسيا ٢٠٢٣"، ننظ\n ورشة ع\nلية لليافعين حول \nهارات تص\nي\n أغلفة الكتب، حيث يتدرب الحاضرون على \nهارات تص\nي\n أغلفة الكتب بطريقة إبداعية تترج\n الخيال إلى تص\nي\n \nرئي يعبر عن الأفكار ال\nذكورة بين صفحات الكتاب. \nانض\n إلينا في هذه الورشة للتعرف على أساسيات و\nهارات تص\nي\n أغلفة الكتب \nن البداية إلى النهاية. وشارك أيضًا في "\nسابقة تص\nي\n غلاف كتاب". \nالتاريخ: 2 أكتوير 2023\nالوقت: 5:30 - 7:00 \nساءً\nاللغة: العربية و الإنجليزية\nالج\nهور ال\nستهدف: اليافعون \nن 12 إلى 18 سنة\nال\nقاعد \nحدودة. اضغط على الزر أدناه للتسجيل.
LOCATION:قاعة المحاضرات
URL:http://events.qnl.qa/howoct
END:VEVENT
END:VCALENDAR
