BEGIN:VCALENDAR
METHOD:PUBLISH
VERSION:2.0
PRODID:-//Eventilla iCal Syndication//NONSGML Liana//EN
BEGIN:VEVENT
UID:Xp0Y1@eventilla.com
DTSTAMP:20260123T140000Z
DTSTART:20260123T140000Z
DTEND:20260124T160000Z
SUMMARY:Craft Square: Pulse of Colors Painting Workshop
DESCRIPTION:Craft Square is a program series that offers a space for people who enjoy hobbies\, arts\, and crafts. It encourages participants to explore new activities\, try new projects\, and connect with others through shared creative interests.\nThe Pulse of Colors workshop\, led by visual artist Hanifa Abdulqader\, offers participants a new experience to express their emotions through art\, where emotions become a painting. \nDrawing is an effective means of self-expression without the need for words\, as it provides a safe space to connect with your feelings in creative ways and explore new techniques that can be shared with others.\nThrough artistic elements such as colors\, brushstrokes\, and composition\, participants can convey various emotions including happiness\, sadness\, anger\, and more.\nYou can register for all workshop days or choose to attend on a single day.\nDate: 23 - 24 January 2026\nTime: 5:00 - 7:00 PM\nLanguage: Arabic\nTarget Audience: Adults\nSeats are limited\, please click the button below to register.
LOCATION:Heritage Library Presentation Room\, Qatar National Library\,
 Doha\, Qatar
URL:http://events.qnl.qa/event/Xp0Y1
END:VEVENT
END:VCALENDAR
