BEGIN:VCALENDAR
METHOD:PUBLISH
VERSION:2.0
PRODID:-//Eventilla iCal Syndication//NONSGML Liana//EN
BEGIN:VEVENT
UID:WLlJX@eventilla.com
DTSTAMP:20221114T130000Z
DTSTART:20221114T130000Z
DTEND:20221114T143000Z
SUMMARY:International Day against Illicit Trafficking in Cultural Property
DESCRIPTION:On the occasion of the International Day against Illicit Trafficking in Cultural Property\, which falls on 14 November of each year\, Qatar National Library (the IFLA PAC Regional Center in the Arab Region and the Middle East) is organizing a remote panel discussion with elite experts. They will discuss regional and international cooperation to combat the trafficking of cultural property\, with a focus on documentary heritage\, particularly in the Middle East and North Africa.\nOpening Speech: \nMs. Tan Huism\, Executive Director\, Qatar National Library. Speakers:\nMs. Marina Schneider\, Principal Legal Officer & Treaty Depositary\, UNIDROIT.\nDr. Mounir Bouchenaki\, Advisor to UNESCO and ICCROM\nDr. Zaki Aslan\, Director and Regional Representative\, ICCROM-Sharjah Regional Conservation Center\, UAE.\nDr. Eleni Polymenopoulou\, Associate Professor at HBKU\, College of Law.\nModerator:\nMr. Stephane Ipert\, Director of Distinctive Collection\, Qatar National Library. \nThe event will be conducted online via Zoom. \nDate: 14 November 2022 \nTime: 4:00 - 5:30 PM (Qatar time) = (GMT+3)\nLanguage: Arabic and English \nTarget Audience: Specialists in heritage preservation and anti-trafficking\nSeats are limited\, please click the button below to register.
LOCATION:Online via Zoom
URL:http://events.qnl.qa/event/WLlJX
END:VEVENT
END:VCALENDAR
