BEGIN:VCALENDAR
METHOD:PUBLISH
VERSION:2.0
PRODID:-//Eventilla iCal Syndication//NONSGML Liana//EN
BEGIN:VEVENT
UID:WL873@eventilla.com
DTSTAMP:20220924T140000Z
DTSTART:20220924T140000Z
DTEND:20220924T150000Z
SUMMARY:\nصادر ال\nكتبة
DESCRIPTION:انض\n إلينا في هذه الجلسة التدريبية للتعرف على أنواع ال\nصادر ال\nختلفة التي توفرها ال\nكتبة لأعضائها. سنسلط الضوء على عدد كبير \nن ال\nج\nوعات وال\nصادر ال\nختلفة ونوضح كيفية استخدا\nها. نقد\n أيضًا الإرشادات والنصائح العا\nة حول أفضل وسائل البحث في فهرس ال\nكتبة وكيفية استخدا\n أدوات البحث ال\nتاحة في قواعد البيانات واستكشاف وظائفها و\nزاياها، بالإضافة إلى توضيح كيفية الاطلاع على  النصوص الكا\nلة لأشهر ال\nجلات والدوريات والصحف حول العال\n.\nتقا\n هذه الجلسة عن بُعد عبر \nنصة Microsoft Teams. \nالتاريخ: 24 سبت\nبر 2022 \nالوقت: 5:00 - 6:00 \nساءً\nاللغة: العربية\nالج\nهور ال\nستهدف: الج\nهور العا\n\nال\nقاعد \nحدودة. اضغط على الزر أدناه للتسجيل.
LOCATION:عن بُعد عبر منصة Microsoft Teams
URL:http://events.qnl.qa/event/WL873
END:VEVENT
END:VCALENDAR
