BEGIN:VCALENDAR
METHOD:PUBLISH
VERSION:2.0
PRODID:-//Eventilla iCal Syndication//NONSGML Liana//EN
BEGIN:VEVENT
UID:R10yM@eventilla.com
DTSTAMP:20220921T070000Z
DTSTART:20220921T070000Z
DTEND:20220921T083000Z
SUMMARY:Breastfeeding Support Group
DESCRIPTION:Are you a breastfeeding mother who is looking for support or a pregnant woman who wishes to learn more about breastfeeding? ‏You are invited to join us for these sessions\, provided by certified breastfeeding specialists from the Young Mothers Group.\nDate: 21 September 2022\nTime: 10:00 - 11:30 AM\nLanguage: English\nTarget Audience: Mothers\nSeats are limited\, please click the button below to register.\n \nIf you are 18 years old or above\, you must show a green Ehteraz to attend an event at the Library. 
LOCATION:Heritage Library Presentation Room\, Qatar National Library,
 Education City, Al Luqta St\, Doha\, Qatar
URL:http://events.qnl.qa/event/R10yM
END:VEVENT
END:VCALENDAR
