BEGIN:VCALENDAR
METHOD:PUBLISH
VERSION:2.0
PRODID:-//Eventilla iCal Syndication//NONSGML Liana//EN
BEGIN:VEVENT
UID:R10wJ@eventilla.com
DTSTAMP:20220903T090000Z
DTSTART:20220903T090000Z
DTEND:20220903T140000Z
SUMMARY:Researchers' Hub
DESCRIPTION:In this one-day event\, researchers will attend three technical workshops that give oversight of both quantitive and qualitative methodologies. Join us to explore different aspects of research and strengthen your skills.\nAgenda\n12:30 - 1:30 PM: Writing a Literature Review \n2:00 - 3:00 PM: How to Boost your Research Appearance \n3:30 - 4:30 PM: Research Analysis using Quantitative Tools: Getting Started with JASP.\nCoffee breaks will be held between sessions. \n \nDate: 3 September 2022 \nTime: 12:00 - 5:00 PM \nLanguage: Arabic \nTarget Audience: Researchers and general public \nSeats are limited\, please click the button below to register.\nIf you are 18 years old or above\, you must show a green Ehteraz with a gold frame to attend an event at the Library. Alternatively\, the Ehteraz app can show that you have recovered from COVID\, or you can present a valid rapid antigen test (done within 48 hours) from a private clinic.\nIf you are 12 -17 years old\, you need to have a green Ehteraz with a gold frame\, or Ehteraz can show you have recovered from COVID. Alternatively\, you may present a rapid antigen home test form.
LOCATION:Auditorium\, Qatar National Library, Education City, Al Luqta
 St\, Doha\, Qatar
URL:http://events.qnl.qa/event/R10wJ
END:VEVENT
END:VCALENDAR
