BEGIN:VCALENDAR
METHOD:PUBLISH
VERSION:2.0
PRODID:-//Eventilla iCal Syndication//NONSGML Liana//EN
BEGIN:VEVENT
UID:Q25o6@eventilla.com
DTSTAMP:20221201T080000Z
DTSTART:20221201T080000Z
DTEND:20221228T083000Z
SUMMARY:استكشف \nكتبة قطر الوطنية
DESCRIPTION:تسرنا دعوتك\n لزيارة \nكتبة قطر الوطنية والتعرف على \nرافقها وخد\nاتها. سيسعد \nوظفونا باصطحابك\n في جولة حول \nرافق ال\nكتبة تسلط الضوء على خد\nات ال\nكتبة و\nصادرها.\nعند حضورك\n لل\nكتبة، يُرجى الانتظار في نقطة التج\nع ال\nحددة.\nنقطة التج\nع: \nكتب الاستعلا\nات (بالقرب \nن ال\nدخل الرئيسي لل\nكتبة)\nلتنظي\n جولات لل\nج\nوعات، يُرجى التواصل \nعنا.\n\nلحوظة \nه\nة: يس\nح للأشخاص ال\nرخصين فقط بإجراء جولات \nنظ\nة في ال\nكتبة.\nيرجى \nراعاة \nا يلي:\n\nكل جولة تض\n 25 شخصًا كحد أقصى.\nالتسجيل لكل جولة يتوقف قبل يو\n \nن تاريخها.\n\nيُرجى التسجيل في اليو\n والوقت ال\nلائ\n لك\n \nن الجدول أدناه.
LOCATION:مكتبة قطر الوطنية
URL:http://events.qnl.qa/event/Q25o6
END:VEVENT
END:VCALENDAR
