BEGIN:VCALENDAR
METHOD:PUBLISH
VERSION:2.0
PRODID:-//Eventilla iCal Syndication//NONSGML Liana//EN
BEGIN:VEVENT
UID:Po55J@eventilla.com
DTSTAMP:20251015T070000Z
DTSTART:20251015T070000Z
DTEND:20251015T080000Z
SUMMARY:Librarians for Libraries - School Library: A Platform for Empowering Learners in the Digital Age
DESCRIPTION:Qatar National Library\, as the IFLA MENA Regional Office\, invites you to the "Librarians for Libraries" program\, which aims to develop librarianship skills in the MENA region through virtual sessions covering a variety of topics.\nThis session\, "School Library: A Platform for Empowering Learners in the Digital Age\," will highlight the evolving role of the school library as an active platform for empowering learners in today’s fast-paced digital environment. Participants will explore how to foster information literacy\, strengthen digital knowledge navigation skills\, and guide learners toward the safe and responsible use of information—reinforcing the principles of information security and digital citizenship. \nThe workshop will also provide librarians with practical strategies to support digital transformation and position the school library as a flexible and inclusive learning hub. Whether you are looking to enhance your library’s role in digital education or to develop innovative approaches to supporting students\, this session offers valuable insights and actionable tools.\nJoin us to discover how school libraries can become active partners in advancing digital learning and empowering the next generation of learners.\nThe event will be conducted online via Zoom. \nDate: 15 October 2025\nTime: 10:00 - 11:00 AM\nLanguage: Arabic\nTarget Audience: Librarians\, teachers\, and the public\nSeats are limited\, please click the button below to register.
LOCATION:Online via Zoom
URL:http://events.qnl.qa/event/Po55J
END:VEVENT
END:VCALENDAR
