BEGIN:VCALENDAR
METHOD:PUBLISH
VERSION:2.0
PRODID:-//Eventilla iCal Syndication//NONSGML Liana//EN
BEGIN:VEVENT
UID:PPgBl@eventilla.com
DTSTAMP:20221229T143000Z
DTSTART:20221229T143000Z
DTEND:20221229T153000Z
SUMMARY:The Eloquence of the Qur'an
DESCRIPTION:We invite you to join us on this unique linguistic journey as Dr. Abdul Salam Al Majidi\, Professor of Qur'anic Exegesis and Recitations\, gives us an insight into the language and eloquent diction of the Qur'an. \nDate: 29 December 2022\nTime: 5:30 - 6:30 PM \nLanguage: Arabic \nTarget Audience: Public \nSeats are limited\, please click the button below to register.\n 
LOCATION:Auditorium\, Qatar National Library, Education City, Al Luqta
 St\, Doha\, Qatar
URL:http://events.qnl.qa/event/PPgBl
END:VEVENT
END:VCALENDAR
