BEGIN:VCALENDAR
METHOD:PUBLISH
VERSION:2.0
PRODID:-//Eventilla iCal Syndication//NONSGML Liana//EN
BEGIN:VEVENT
UID:PPNr4@eventilla.com
DTSTAMP:20220913T070000Z
DTSTART:20220913T070000Z
DTEND:20220913T083000Z
SUMMARY:Our Children Matter: Understanding Children's Behavior
DESCRIPTION:Join us in the "Our Children Matter" series of lectures that focus on topics in the fields of childhood\, education and children's health.In today's session we will be hosting Dima Najjar\, a psychologist\, certified parent trainer and certified motivational counselor\, who will discuss undesirable behaviors and how to mange them. \nThe event will be conducted online via Microsoft Teams. \nDate: 13 September 2022\nTime: 10:00 - 11:30 AM\nLanguage: Arabic\nTarget Audience: Families\nSeats are limited\, please click the button below to register.
LOCATION:Online via Microsoft Teams
URL:http://events.qnl.qa/event/PPNr4
END:VEVENT
END:VCALENDAR
