BEGIN:VCALENDAR
METHOD:PUBLISH
VERSION:2.0
PRODID:-//Eventilla iCal Syndication//NONSGML Liana//EN
BEGIN:VEVENT
UID:OlYMY@eventilla.com
DTSTAMP:20230924T130000Z
DTSTART:20230924T130000Z
DTEND:20230924T143000Z
SUMMARY:Najem Es'hail Book Club - English (Session 3)
DESCRIPTION:To plant a seed and grow the love of reading in your child\, encourage them to join the Najem Es’hail Book Club in English this September. We will have one session per week for three weeks. The sessions are both educational and fun for children\, and we encourage your child to attend all three sessions to reap the maximum benefits.\nDate: 24 September 2023\nTime: 4:00 - 5:30 PM\nLanguage: English\nTarget Audience: Children (9 – 12 Years)\nSeats are limited\, please click the button below to register. 
LOCATION:Computer Lab\, Qatar National Library, Education City, Al Luqta
 St\, Doha\, Qatar
URL:http://events.qnl.qa/event/OlYMY
END:VEVENT
END:VCALENDAR
