BEGIN:VCALENDAR
METHOD:PUBLISH
VERSION:2.0
PRODID:-//Eventilla iCal Syndication//NONSGML Liana//EN
BEGIN:VEVENT
UID:OlM9B@eventilla.com
DTSTAMP:20230405T100000Z
DTSTART:20230405T100000Z
DTEND:20230405T110000Z
SUMMARY:Assistive Technology Devices and the Braille Book Collection
DESCRIPTION:Celebrate the Holy Month of Ramadan by learning about the braille versions of the Qur'an and other Islamic books that we have in our collection\, as well as the assistive technology devices that our patrons can make use of.\nThe event will be conducted online via Microsoft Teams. \nDate: 5 April 2023 \nTime: 1:00 - 2:00 PM\nLanguage: Arabic  \nTarget Audience: Public  \nSeats are limited\, please click the button below to register.
LOCATION:Online via Microsoft Teams
URL:http://events.qnl.qa/event/OlM9B
END:VEVENT
END:VCALENDAR
