BEGIN:VCALENDAR
METHOD:PUBLISH
VERSION:2.0
PRODID:-//Eventilla iCal Syndication//NONSGML Liana//EN
BEGIN:VEVENT
UID:NPy1w@eventilla.com
DTSTAMP:20260205T050000Z
DTSTART:20260205T050000Z
DTEND:20260207T170000Z
SUMMARY:IRead Marathon
DESCRIPTION:Qatar National Library is participating\, alongside 19 selected Arab libraries and in collaboration with the Arab Federation for Libraries and Information and the King Abdulaziz Center for World Culture (Ithra)\, in the largest reading marathon in the Arab world\, taking place over three days from February 5 to 7.\nThe marathon aims to motivate community members to read in public libraries\, in recognition of the library’s role in enriching scientific\, cultural\, and civilizational life.\nYou can participate in the marathon by visiting the Library on any of these days during its official working hours.\nDate: 5 - 7 February 2026\nTime: During the opening hours of the Library\nLanguage: Arabic and English\nTarget Audience: Public\nThis is an open event; RSVP is not required\n 
LOCATION:Children’s Library for children and Main Plaza for adults\,
 Qatar National Library\, Doha\, Qatar
URL:http://events.qnl.qa/event/NPy1w
END:VEVENT
END:VCALENDAR
