BEGIN:VCALENDAR
METHOD:PUBLISH
VERSION:2.0
PRODID:-//Eventilla iCal Syndication//NONSGML Liana//EN
BEGIN:VEVENT
UID:N46lZ@eventilla.com
DTSTAMP:20220922T120000Z
DTSTART:20220922T120000Z
DTEND:20220922T140000Z
SUMMARY:Chess Club
DESCRIPTION:Did you know that chess improves memory and problem-solving skills\, and raises IQ? It is a wonderful way to improve focus and flex those creative muscles and\, most importantly\, kids have fun playing the game.\nJoin us in the Library to learn the basics\, make some friends and enjoy a little bit of competition.\nDate: 22 September 2022\nTime: 3:00 - 5:00 PM\nLanguage: Arabic and English\nTarget Audience: Public\nThis is an open event; RSVP is not required.\n \nIf you are 18 years old or above\, you must show a green Ehteraz to attend an event at the Library. 
LOCATION:Main Plaza\, Qatar National Library, Education City, Al Luqta
 St\, Doha\, Qatar
URL:http://events.qnl.qa/event/N46lZ
END:VEVENT
END:VCALENDAR
