BEGIN:VCALENDAR
METHOD:PUBLISH
VERSION:2.0
PRODID:-//Eventilla iCal Syndication//NONSGML Liana//EN
BEGIN:VEVENT
UID:N45Pw@eventilla.com
DTSTAMP:20230630T210000Z
DTSTART:20230630T210000Z
DTEND:20230819T210000Z
SUMMARY:Summer Reading Challenge
DESCRIPTION:In collaboration with Little Thinking Minds\, the Children’s Library is pleased to announce the Summer Reading Challenge!\nSeize what is left of the summer and encourage your kids to read. Summer reading helps avoid summer reading loss\, better known as the summer slide. Those who finish the challenge will receive special prizes to enjoy\, including various books to read and own\, certificates\, and more.The starting date of the competition is 1 July 2023 and it will end on 20 August 2023. Winners will be announced in September.\nSteps for participating in the reading challenge:\n\nFinish all the tasks for all the books mentioned below according to the age group (Reading\, Listening\, Quiz)\nSubmit a video recording via email d.kaloti@littlethinkingminds.com\nAges 6-4\, read 20 books and record a one-minute video reading a book of your choice\nAges 7-9\, read 30 books and record a one-minute video reading a book of yourchoice\nAges 10-14\, read 40 books and record a one-minute video reading a book of your choice\nFor registration\, please click this link.\n\nFor more inquiries or assistance\, please contact Little Thinking Minds on 00962 7 9772 7181 or at qnlcompetition@littlethinkingminds.com  \nThe session will be conducted online using the 'I read Arabic' platform.\nDate: 1 July - 20 August 2023 \nLanguage: Arabic \nTarget Audience:4 - 14 years old \nThis is an open event; RSVP is not required
LOCATION:Online using the 'I read Arabic' platform
URL:http://events.qnl.qa/event/N45Pw
END:VEVENT
END:VCALENDAR
