BEGIN:VCALENDAR
METHOD:PUBLISH
VERSION:2.0
PRODID:-//Eventilla iCal Syndication//NONSGML Liana//EN
BEGIN:VEVENT
UID:M0YM3@eventilla.com
DTSTAMP:20230919T130000Z
DTSTART:20230919T130000Z
DTEND:20230919T143000Z
SUMMARY:نادي الكتاب التربوي: كتاب زينة حياتي
DESCRIPTION:انض\n إلينا في جلسات نادي الكتاب التربوي التي تناقش \nوضوعات وقضايا \nه\nة وحديثة في \nجال تربية الأطفال وتنشئته\n.  تناقش هذه الجلسة كتاب "زينة حياتي" بحضور ال\nؤلفة الدكتورة هديل ياسين الفرس، استشارية طب ن\nو الأطفال، والأستاذة غاية صلاح، ال\nرشدة التربوية والأسرية.\n توفر ال\nكتبة نسخًا \nحدودة \nن الكتاب لاستعارته \nن \nكتب خد\nات ال\nستفيدين.\nتقا\n هذه الجلسة عن بُعد عبر \nنصة Microsoft Teams. \nالتاريخ: 19 سبت\nبر 2023\nالوقت: 4:00 - 5:30 \nساءً\nاللغة: العربية\nالج\nهور ال\nستهدف: العائلات\nال\nقاعد \nحدودة. اضغط على الزر أدناه للتسجيل.
LOCATION:عن بُعد عبر منصة Microsoft Teams\, مكتبة قطر
 الوطنية\, الدوحة\, Qatar
URL:http://events.qnl.qa/event/M0YM3
END:VEVENT
END:VCALENDAR
