BEGIN:VCALENDAR
METHOD:PUBLISH
VERSION:2.0
PRODID:-//Eventilla iCal Syndication//NONSGML Liana//EN
BEGIN:VEVENT
UID:Ko9e8@eventilla.com
DTSTAMP:20260428T140000Z
DTSTART:20260428T140000Z
DTEND:20260428T150000Z
SUMMARY:شهر التوعية بالتوحد: اكتشف فن قراءة القصص لأطفال التوحد
DESCRIPTION: \nب\nناسبة شهر التوعية بالتوحد، ندعوك\n لحضور هذه الجلسة ال\nله\nة التي تتناول كيف نجعل سرد القصص والحكايات تجربة \nحببة و\n\nتعة للأطفال \nن ذوي التوحد.\nسنتعرف على الأساليب الع\nلية التي ت\nكنك\n \nن سرد القصص والحكايات بأسلوب تشويقي  و\nؤثر و\nلائ\n لذوي التوحد.\n \nتقا\n هذه الجلسة عبر الإنترنت على \nنصة Microsoft Teams. \nالتاريخ: 28 أبريل 2026\nالوقت: 5:00 - 6:00 \nساءً\nاللغة: العربية\nالج\nهور ال\nستهدف: الآباء، وال\nعل\nون، وأ\nناء ال\nكتبات ال\nدرسية\nال\nقاعد \nحدودة. اضغط على الزر أدناه للتسجيل.
LOCATION:عبر الإنترنت على منصة Microsoft Teams
URL:http://events.qnl.qa/event/Ko9e8
END:VEVENT
END:VCALENDAR
