BEGIN:VCALENDAR
METHOD:PUBLISH
VERSION:2.0
PRODID:-//Eventilla iCal Syndication//NONSGML Liana//EN
BEGIN:VEVENT
UID:JwNrK@eventilla.com
DTSTAMP:20251021T130000Z
DTSTART:20251021T130000Z
DTEND:20251021T140000Z
SUMMARY:Make with Me\, Chile Edition
DESCRIPTION:As part of the Qatar Argentina and Chile 2025 Year of Culture\, unleash your creativity and join us for an exciting session of craft-making and art creation!\nDive into a world of colors and imagination in a lively\, fun-filled setting designed to spark joy and inspire your artistic side. Don’t miss this chance to create something truly special while making wonderful memories!\nDate: 21 October 2025\nTime: 4:00 - 5:00 PM \nLanguage: Arabic and English\nTarget Audience: 7 to 10 years\nSeats are limited\, please click the button below to register.
LOCATION:Children's Library\, Qatar National Library\, Doha\, Qatar
URL:http://events.qnl.qa/event/JwNrK
END:VEVENT
END:VCALENDAR
