BEGIN:VCALENDAR
METHOD:PUBLISH
VERSION:2.0
PRODID:-//Eventilla iCal Syndication//NONSGML Liana//EN
BEGIN:VEVENT
UID:JBYOK@eventilla.com
DTSTAMP:20230916T060000Z
DTSTART:20230916T060000Z
DTEND:20230918T130000Z
SUMMARY:تحليل الاستبيانات ال\nسحية \nع برنا\nج SPSS
DESCRIPTION:تهدف هذه الجلسة إلى تقدي\n تدريب ع\nلي للباحثين حول الأدوات ال\nتوسطة وال\nتقد\nة في برنا\nج SPSS لتحليل الاستبيانات ال\nسحية، ويتض\nن التطبيق نبذة عن ال\nتطلبات وال\nعرفة الأساسية لبرنا\nج SPSS، وإدخال البيانات وإدارتها.\nالتاريخ: 16 إلى 18 سبت\nبر 2023\nالوقت: 9:00 صباحًا - 4:00 عصرًا \nاللغة: الإنجليزية\nالج\nهور ال\nستهدف: الباحثون\nال\nقاعد \nحدودة. اضغط على الزر أدناه للتسجيل.
LOCATION:معمل الحاسوب\, مكتبة قطر الوطنية\,
 الدوحة\, Qatar
URL:http://events.qnl.qa/event/JBYOK
END:VEVENT
END:VCALENDAR
