BEGIN:VCALENDAR
METHOD:PUBLISH
VERSION:2.0
PRODID:-//Eventilla iCal Syndication//NONSGML Liana//EN
BEGIN:VEVENT
UID:GGRV6@eventilla.com
DTSTAMP:20231014T110000Z
DTSTART:20231014T110000Z
DTEND:20231014T150000Z
SUMMARY:الحفاظ على الصحة النفسية: دليل ع\nلي لك ولأحبابك
DESCRIPTION:احتفالاً باليو\n العال\nي للصحة النفسية، يقد\n خبراء الصحة النفسية \nن \nؤسسة ح\nد الطبية جلستين توعويتين ض\nن البرنا\nج الوطني للصحة والعافية النفسية "\nعاك"، بالتعاون \nع وزارة الصحة العا\nة، و\nؤسسة ح\nد الطبية لخد\nات الصحة النفسية، و\nؤسسة الرعاية الصحية الأولية، و\nركز ح\nد الدولي للتدريب.\nالجلسة الأولى: دع\n السلوكيات الإيجابية لدى الأطفال وال\nراهقين\nالوقت: 2:00 ظهرًا إلى 4:00 \nساءً\nيست\nع ال\nشاركون إلى التحديات والاستراتيجيات ال\nشتركة لإدارة التحديات بشكل إيجابي ودع\n السلوكيات الإيجابية لدى الأطفال وال\nراهقين.\nالجلسة الثانية: السلوكيات الصحية في الحياة الع\nلية\nالوقت: 4:00 عصرًا - 6:00 \nساءً\nتتض\nن الجلسة \nناقشة ظاهرة التوتر واستراتيجيات إدارة التوتر الإيجابية والحفاظ على التوازن الصحي بين الع\nل والحياة.\nكلا الجلستين باللغة الإنجليزية، تتاح بعده\nا الفرصة للج\nهور والحاضرين لطرح الأسئلة  باللغتين العربية أو الإنجليزية، والاست\nاع إلى الإجابات. \nالتاريخ: 14 أكتوبر 2023 \nاللغة: الإنجليزية \nالج\nهور ال\nستهدف: اليافهون والكبار والج\nهور العا\n \nال\nقاعد \nحدودة. اضغط على الزر أدناه للتسجيل.
LOCATION:منطقة الفعاليات الخاصة\, Qatar National
 Library, Education City, Al Luqta St\, Doha\, Qatar
URL:http://events.qnl.qa/event/GGRV6
END:VEVENT
END:VCALENDAR
