BEGIN:VCALENDAR
METHOD:PUBLISH
VERSION:2.0
PRODID:-//Eventilla iCal Syndication//NONSGML Liana//EN
BEGIN:VEVENT
UID:ErXrv@eventilla.com
DTSTAMP:20240912T150000Z
DTSTART:20240912T150000Z
DTEND:20240912T160000Z
SUMMARY:Philharmonic at the Library: Music from Qatar and Morocco by MAias Alyamani and Qatar Philharmonic Orchestra
DESCRIPTION:As part of Qatar - Morocco Year of Culture 2024\, join us for a magical musical evening as we listen together to the most beautiful compositions and melodies from Qatar and Morocco.\nViolins: Georges YammineDimitri Torchinsky Lorena ManescuRaluca Gette\nViola:Islam AlbelazizAndrea Mereuta\nCello:Kirill BogatyrevHarald Georgi\nDouble-Bass:Sandor Onodi\nPercussion:Kee Guan Ng\n \nWaslat Ashoori - Qatari traditional songDeerat Al-Ezz - Qatari song\nNidaa Al-Hasan - Moroccan songTawashi Noubat Al-Istihlal - Moroccan traditional song\nAghla Balad - Qatari songKul Shi Feek - Faraj Abdul Kareem\nYa Mawja Ghanni - Al-Hussein Al-SelawiAishi Aishi - Mohammed Al-Idrisi\nHala Feekum - Fahad Al-KubaisiShomeila - Qatari song\nAllah Ya Moulana - Moroccan traditional songMarsoul Al-Hub - Abdul Wahab Al-Doukali\n \nDate: 12 September 2024 \nTime: 6:00 - 7:00 PM\nTarget Audience: Public\nSeats are limited\, please click the button below to register.\n 
LOCATION:Special Events Area\, Qatar National Library, Education City, Al
 Luqta St\, Doha\, Qatar
URL:http://events.qnl.qa/event/ErXrv
END:VEVENT
END:VCALENDAR
