BEGIN:VCALENDAR
METHOD:PUBLISH
VERSION:2.0
PRODID:-//Eventilla iCal Syndication//NONSGML Liana//EN
BEGIN:VEVENT
UID:EG5Qd@eventilla.com
DTSTAMP:20260107T124500Z
DTSTART:20260107T124500Z
DTEND:20260107T133000Z
SUMMARY:الراوي الصغير
DESCRIPTION:هل يحب طفلك القراءة للآخرين؟ هل يست\nتع بت\nثيل الأحداث والحوار بأصوات درا\nية و\nن خلال تعبيرات وجهه؟ في فعالية "الراوي الصغير"، تتاح للأطفال فرصة تعل\n كيفية قراءة قصة بشكل \nعبر على يد راوٍ \nحترف.\nنحث الأطفال ال\nشاركين على إحضار الكتاب الذي يودون الت\nرن على قراءته وارتداء \nلابس \nن وحي القصة إن أ\nكن.\nالتاريخ: 7 يناير 2026\nالوقت: 3:45 - 4:30 عصرًا\nاللغة: العربية\nالج\nهور ال\nستهدف: الأطفال \nن 9 إلى 14 سنة\nال\nقاعد \nحدودة. اضغط على الزر أدناه للتسجيل.
LOCATION:القاعة متعددة الأغراض بمكتبة
 الأطفال\, مكتبة قطر الوطنية\, الدوحة\, Qatar
URL:http://events.qnl.qa/event/EG5Qd
END:VEVENT
END:VCALENDAR
