BEGIN:VCALENDAR
METHOD:PUBLISH
VERSION:2.0
PRODID:-//Eventilla iCal Syndication//NONSGML Liana//EN
BEGIN:VEVENT
UID:D4qZa@eventilla.com
DTSTAMP:20230906T140000Z
DTSTART:20230906T140000Z
DTEND:20230906T150000Z
SUMMARY:Artificial Intelligence and Religious Values: Religion in the Age of the Intelligent Machine
DESCRIPTION:This lecture aims to review and analyze the opportunities and challenges created by the artificial intelligence revolution in relation to the system of religious values. \nHow can a Muslim practice their religion\, with its rulings\, rituals and values\, in an era when the machine is able to think by digesting sources and books in a way that exceeds human capabilities and then presenting new knowledge to the general public? \nDate: 6 September 2023 \nTime: 5:00 - 6:00 PM\nLanguage: Arabic and English (simultaneous translation is available)\nTarget Audience: Public \nSeats are limited\, please click the button below to register.
LOCATION:Auditorium\, Qatar National Library, Education City, Al Luqta
 St\, Doha\, Qatar
URL:http://events.qnl.qa/event/D4qZa
END:VEVENT
END:VCALENDAR
