BEGIN:VCALENDAR
METHOD:PUBLISH
VERSION:2.0
PRODID:-//Eventilla iCal Syndication//NONSGML Liana//EN
BEGIN:VEVENT
UID:D4K2a@eventilla.com
DTSTAMP:20231129T140000Z
DTSTART:20231129T140000Z
DTEND:20231129T150000Z
SUMMARY:Israel's Disinformation and Propaganda War: From Social to Institutional Media
DESCRIPTION:Using examples from the past month\, this lecture explores the ways in which Israel is using disinformation and propaganda on social media to dehumanise Palestinians to try to legitimise murder. It also examines the way in which Western media has contributed to this marginalisation of Palestinian suffering. \nSpeaker: Dr. Marc Owen Jones\, an associate professor of Middle East Studies at Hamad bin Khalifa University\, where he lectures and researches on political repression and informational control strategies. \nDate: 29 November 2023 \nTime: 5:00 - 6:00 PM\nLanguage: English with Arabic interpretation\nTarget Audience: Public \nSeats are limited\, please click the button below to register.\n 
LOCATION:Special Events Area\, Qatar National Library, Education City, Al
 Luqta St\, Doha\, Qatar
URL:http://events.qnl.qa/event/D4K2a
END:VEVENT
END:VCALENDAR
