BEGIN:VCALENDAR
METHOD:PUBLISH
VERSION:2.0
PRODID:-//Eventilla iCal Syndication//NONSGML Liana//EN
BEGIN:VEVENT
UID:AXZBA@eventilla.com
DTSTAMP:20260105T080000Z
DTSTART:20260105T080000Z
DTEND:20260128T113000Z
SUMMARY:Explore Qatar National Library
DESCRIPTION:We're pleased to invite you to visit and explore Qatar National Library. Our staff are happy to give you a tour highlighting the Library’s services and resources.\nYou can also experience the Library anytime and from anywhere through our virtual tour: https://virtualtour.qnl.qa/\nPlease wait for your tour guide at the specified time and meeting point.\nMeeting point for the general Library tour: Information kiosks near the main entrance\nMeeting point for the Heritage Library tour: Information Desk of the Heritage Library (lower level)\nFor any group tour inquiries\, please write to us. \nImportant: Only licensed tour guides can conduct organized tours of the Library.\nPlease note the below:\n\nOur tours are limited to a maximum of 25 people.\nRegistration for each tour closes a day before the tour date.\n\nPlease register for your preferred date and time below.
LOCATION:Qatar National Library\, Education City\, Doha\, Qatar
URL:http://events.qnl.qa/event/AXZBA
END:VEVENT
END:VCALENDAR
