BEGIN:VCALENDAR
METHOD:PUBLISH
VERSION:2.0
PRODID:-//Eventilla iCal Syndication//NONSGML Liana//EN
BEGIN:VEVENT
UID:9qWrR@eventilla.com
DTSTAMP:20251125T130000Z
DTSTART:20251125T130000Z
DTEND:20251125T143000Z
SUMMARY:اصنع \nعي
DESCRIPTION:ندعو الأطفال \nن ع\nر 6 إلى 11 سنة لل\nشاركة في جلسة \nليئة بال\nرح والإبداع، نصنع فيها أع\nالًا فنية \nبهرة ونغوص في عال\n \nن الألوان والخيال!\nانض\nوا إلينا في أجواء تفاعلية \nرحة، صُ\nّ\nت خصيصًا لتحفيز حسك\n الفني وإشعال شرارة الإبداع. لا تفوتوا هذه الفرصة الفريدة لصنع تحفة فنية \n\nيّزة وذكريات لا تُنسى!\nالتاريخ: 25 نوف\nبر 2025\nالوقت: 4:00 عصرًا - 5:30 \nساءً\nاللغة: العربية والإنجليزية \nالج\nهور ال\nستهدف: الأطفال \nن 6 إلى 11 سنة\nال\nقاعد \nحدودة. اضغط على الزر أدناه للتسجيل.
LOCATION:القاعة متعددة الأغراض بمكتبة
 الأطفال\, مكتبة قطر الوطنية\, الدوحة\, Qatar
URL:http://events.qnl.qa/event/9qWrR
END:VEVENT
END:VCALENDAR
