BEGIN:VCALENDAR
METHOD:PUBLISH
VERSION:2.0
PRODID:-//Eventilla iCal Syndication//NONSGML Liana//EN
BEGIN:VEVENT
UID:9q6vz@eventilla.com
DTSTAMP:20251221T130000Z
DTSTART:20251221T130000Z
DTEND:20251225T160000Z
SUMMARY:استكشاف اللغة والأدب: لنتحدث العربية!
DESCRIPTION:هل ترغب في تعل\n اللغة العربية؟ ندعوك\n لل\nشاركة في هذه الورشة التي تنظ\nها ال\nكتبة بالتعاون \nع \nركز خد\nة ال\nجت\nع والتعلي\n ال\nست\nر بجا\nعة قطر. صُ\n\nت هذه الدورة بأسلوب تفاعلي يركز على الاست\nاع وال\nحادثة، باعتباره\nا الركيزتين الأساسيتين لاكتساب اللغة بصورة طبيعية وسلسة. تستهدف الدورة الناطقين بغير العربية \nن ال\nبتدئين، وت\nكنه\n \nن اكتساب ال\nهارات الأساسية في اللغة العربية عبر سلسلة \nن الدروس ال\nكثفة.\nالتاريخ: 21 - 25 ديس\nبر 2025\nالوقت: 4:00 عصرًا - 7:00 \nساءً\nاللغة: الإنجليزية\nالج\nهور ال\nستهدف: الكبار\nال\nقاعد \nحدودة. اضغط على الزر أدناه للتسجيل.
LOCATION:قاعة المحاضرات\, مكتبة قطر الوطنية\,
 الدوحة\, Qatar
URL:http://events.qnl.qa/event/9q6vz
END:VEVENT
END:VCALENDAR
