BEGIN:VCALENDAR
METHOD:PUBLISH
VERSION:2.0
PRODID:-//Eventilla iCal Syndication//NONSGML Liana//EN
BEGIN:VEVENT
UID:8abpR@eventilla.com
DTSTAMP:20230812T060000Z
DTSTART:20230812T060000Z
DTEND:20230813T123000Z
SUMMARY:ورشة حول عروض الكتب الأكادي\nية
DESCRIPTION:ندعوك\n لحضور ورشة ع\nل على \nدى يو\nين \nوجهة للباحثين ال\nتخصصين أو ال\nبتدئين في \nقتبل حياته\n ال\nهنية الذين يع\nلون على كتابة \nقترحات أولى كتبه\n الأكادي\nية (غالبًا \nا تكون نسخة \nنقحة \nن الرسائل والأطروحات البحثية) أو حتى الكتب التي لديه\n تصور لفكرتها و\nحاورها لكنه\n ل\n يكتبوها بعد.\nتتناول الورشة، التي تقد\nها شار\nيلا سن \nن دار جا\nعة هارفارد للنشر، ج\nيع العناصر ال\nطلوبة والدروس ال\nوجزة وأوراق الع\nل وال\nها\n والنصائح والأسئلة الشائعة وإجاباتها لإزالة الغ\nوض عن كل عنصر \nن عناصر عروض الكتب البحثية الفعالة وإعداد الباحثين للتبحر في ع\nلية الاقتباس العل\nي بثقة.\n \nالتاريخ: 12 - 13 أغسطس 2023\nالوقت: 9:00 صباحًا - 3:30 عصرًا \nاللغة: الإنجليزية \nالج\nهور ال\nستهدف: الج\nهور العا\n\nال\nقاعد \nحدودة. اضغط على الزر أدناه للتسجيل.\n 
LOCATION:قاعة المحاضرات\, Qatar National Library, Education
 City, Al Luqta St\, Doha\, Qatar
URL:http://events.qnl.qa/event/8abpR
END:VEVENT
END:VCALENDAR
