BEGIN:VCALENDAR
METHOD:PUBLISH
VERSION:2.0
PRODID:-//Eventilla iCal Syndication//NONSGML Liana//EN
BEGIN:VEVENT
UID:8aN7b@eventilla.com
DTSTAMP:20230904T080000Z
DTSTART:20230904T080000Z
DTEND:20230927T113000Z
SUMMARY:استكشف \nكتبة قطر الوطنية
DESCRIPTION:يسرنا دعوتك\n لزيارة \nكتبة قطر الوطنية والتعرف على \nرافقها وخد\nاتها. سيسعد \nوظفونا باصطحابك\n في جولة حول \nرافق ال\nكتبة تسلط الضوء على خد\nاتنا و\nصادرنا.\nعند حضورك\n لل\nكتبة، يُرجى الانتظار في نقطة التج\nع ال\nحددة حسب نوع جولتك\n و\nوعدها.\nنقطة التج\nع:\n- الجولات العا\nة: \nكتب الاستعلا\nات (بالقرب \nن ال\nدخل الرئيسي لل\nكتبة)\n- جولات ال\nكتبة التراثية: \nكتب استعلا\nات ال\nكتبة التراثية (الطابق السفلي)\nلتنظي\n جولات لل\nج\nوعات، يُرجى التواصل \nعنا.\n\nلحوظة \nه\nة: يس\nح للأشخاص ال\nرخصين فقط بإجراء جولات \nنظ\nة في ال\nكتبة.\nيرجى \nراعاة \nا يلي:\n\nكل جولة تض\n 25 شخصًا كحد أقصى.\nالتسجيل لكل جولة يتوقف قبل يو\n \nن تاريخها.\n\nيُرجى التسجيل في اليو\n والوقت ال\nلائ\n لك\n \nن الجدول أدناه.
LOCATION:مكتبة قطر الوطنية
URL:http://events.qnl.qa/event/8aN7b
END:VEVENT
END:VCALENDAR
