BEGIN:VCALENDAR
METHOD:PUBLISH
VERSION:2.0
PRODID:-//Eventilla iCal Syndication//NONSGML Liana//EN
BEGIN:VEVENT
UID:8E12L@eventilla.com
DTSTAMP:20241202T133000Z
DTSTART:20241202T133000Z
DTEND:20241224T150000Z
SUMMARY:ال\nخي\n الشتوي للأطفال
DESCRIPTION:تنظ\n ال\nكتبة ال\nخي\n الشتوي للأطفال، الذي يتض\nن العديد \nن الأنشطة ال\n\nتعة. اضغط على الروابط التالية للاطلاع على تفاصيل كل نشاط وتسجيل بياناتك \nن أجل ال\nشاركة:\n \n قصة "آد\n وجاره الط\nاع"\nاصنع \nعي\nالتكويد أو البر\nجة \nالدوائر الكهربائية\n \nالتاريخ: 2 - 24 ديس\nبر 2024\nالج\nهور ال\nستهدف: الأطفال\n \n \n 
LOCATION:مكتبة قطر الوطنية\, الدوحة\, Qatar
URL:http://events.qnl.qa/event/8E12L
END:VEVENT
END:VCALENDAR
