BEGIN:VCALENDAR
METHOD:PUBLISH
VERSION:2.0
PRODID:-//Eventilla iCal Syndication//NONSGML Liana//EN
BEGIN:VEVENT
UID:6PXYL@eventilla.com
DTSTAMP:20220926T084500Z
DTSTART:20220926T084500Z
DTEND:20220926T093000Z
SUMMARY:The Legacy of Scientists from Uzbekistan's Golden Age
DESCRIPTION:On the occasion of the signing of a memorandum of understanding between Qatar National Library and the Center of Islamic Civilization in Uzbekistan under the Cabinet of Ministers of the Republic of Uzbekistan\, the Heritage Library is organizing this event to highlight the legacy of Uzbek scholars through the ages.\nThe lecture will be presented by HE Mr. Shaazim Minovarov\, Director of the Center for Islamic Civilization\, who will talk about some of the most famous scholars of Uzbekistan throughout history and how Uzbekistan has become the modern country it is today.\nStephane J. Ipert\, Director of Distinctive Collections at Qatar National Library\, will highlight examples of these scholars' works within the collections of the Heritage Library\, and the impact of their legacy up to the present day.\nDate: 26 September 2022 \nTime: 11:45 AM - 12:30 PM\nLanguage: English\nTarget Audience: Public \nSeats are limited\, please click the button below to register.\nIf you are 18 years old or above\, you must show a green Ehteraz to attend an event at the Library. \n 
LOCATION:Heritage Library Presentation Room
URL:http://events.qnl.qa/event/6PXYL
END:VEVENT
END:VCALENDAR
