BEGIN:VCALENDAR
METHOD:PUBLISH
VERSION:2.0
PRODID:-//Eventilla iCal Syndication//NONSGML Liana//EN
BEGIN:VEVENT
UID:4NzLQ@eventilla.com
DTSTAMP:20241009T070000Z
DTSTART:20241009T070000Z
DTEND:20241009T080000Z
SUMMARY:Reesha Exhibition 2024 Opening Ceremony
DESCRIPTION:Qatar National Library\, in collaboration with Hamad Bin Khalifa University and the Children's Literature Center\, will officially open the Reesha Children's Art Exhibition 2024\, titled "Artworks Inspired by the Novel Men in the Sun". \nThe exhibition aims to raise awareness about the Palestinian cause and support it\, while helping children engage with significant issues through the use of arts and creative cultural development tools.We have made every effort to make the contents of this exhibition accessible to all visitors. Therefore\, we have provided audio descriptions and high contrast raised images to enhance the experience for our visually impaired guests. Visitors can listen to the audio descriptions by scanning the QR codes available throughout the exhibition with their phone\, and they can also feel the raised images with your fingertips.The exhibition will be held at Qatar National Library from 9 October to 31 December\, 2024.\nDate: 9 October 2024 \nTime: 10:00 - 11:00 AM\nLanguage: Arabic\nTarget Audience: Families\,students\, and educaters.\nThis is an open event; RSVP is not required\n 
LOCATION:Special Events Area\, Qatar National Library, Education City, Al
 Luqta St\, Doha\, Qatar
URL:http://events.qnl.qa/event/4NzLQ
END:VEVENT
END:VCALENDAR
